BEGIN:VCALENDAR
VERSION:2.0
PRODID:-//ECU Health Foundation - ECPv6.15.20//NONSGML v1.0//EN
CALSCALE:GREGORIAN
METHOD:PUBLISH
X-WR-CALNAME:ECU Health Foundation
X-ORIGINAL-URL:https://www.ecuhealthfoundation.org
X-WR-CALDESC:Events for ECU Health Foundation
REFRESH-INTERVAL;VALUE=DURATION:PT1H
X-Robots-Tag:noindex
X-PUBLISHED-TTL:PT1H
BEGIN:VTIMEZONE
TZID:UTC
BEGIN:STANDARD
TZOFFSETFROM:+0000
TZOFFSETTO:+0000
TZNAME:UTC
DTSTART:20240101T000000
END:STANDARD
END:VTIMEZONE
BEGIN:VEVENT
DTSTART;TZID=UTC:20250531T190000
DTEND;TZID=UTC:20250531T200000
DTSTAMP:20260421T083137
CREATED:20250422T144559Z
LAST-MODIFIED:20250422T181606Z
UID:6102-1748718000-1748721600@www.ecuhealthfoundation.org
SUMMARY:40th annual Celebration Broadcast
DESCRIPTION:Tune in to WITN May 31 and June 1 for the 40th annual Celebration Broadcast! \nChildren’s Miracle Network will recognize our amazing sponsors\, share amazing miracle stories and you’ll hear from the dedicated staff at Maynard Children’s Hospital about how your dollars are impacting sick and injured children in eastern North Carolina. \nThe telethon is Saturday\, May 31 from 7-8 p.m. and Sunday\, June 1 from 6-9 a.m. and 7-11 p.m. \nYou can also stream online by clicking here.
URL:https://www.ecuhealthfoundation.org/event/40th-annual-celebration-broadcast/
CATEGORIES:Children's Miracle Network,Fundraising
ATTACH;FMTTYPE=image/png:https://www.ecuhealthfoundation.org/wp-content/uploads/2025/04/5-31-telethon.png
END:VEVENT
END:VCALENDAR