BEGIN:VCALENDAR
VERSION:2.0
PRODID:-//ECU Health Foundation - ECPv6.15.20//NONSGML v1.0//EN
CALSCALE:GREGORIAN
METHOD:PUBLISH
X-WR-CALNAME:ECU Health Foundation
X-ORIGINAL-URL:https://www.ecuhealthfoundation.org
X-WR-CALDESC:Events for ECU Health Foundation
REFRESH-INTERVAL;VALUE=DURATION:PT1H
X-Robots-Tag:noindex
X-PUBLISHED-TTL:PT1H
BEGIN:VTIMEZONE
TZID:UTC
BEGIN:STANDARD
TZOFFSETFROM:+0000
TZOFFSETTO:+0000
TZNAME:UTC
DTSTART:20240101T000000
END:STANDARD
END:VTIMEZONE
BEGIN:VEVENT
DTSTART;TZID=UTC:20251213T140000
DTEND;TZID=UTC:20251213T160000
DTSTAMP:20260422T122229
CREATED:20251117T231831Z
LAST-MODIFIED:20251117T231831Z
UID:10000457-1765634400-1765641600@www.ecuhealthfoundation.org
SUMMARY:Dance Arts Theatre presents The Nutcracker
DESCRIPTION:[vc_row][vc_column][vc_column_text css=””] \nSince 1985\, Dance Arts Theatre has presented The Nutcracker to thousands of people all over eastern North Carolina. Due to its universal appeal to young and old alike the ballet has become a memorable holiday tradition for many families. \nCelebrating its 34th season\, Dance Arts Theatre will present The Nutcracker at Wright Auditorium\, ECU\, December 13 & 14\, 2025. Net proceeds from the special event will be donated to the Children’s Miracle Network Hospitals to benefit James and Connie Maynard Children’s Hospital at ECU Health Medical Center in Greenville\, NC. Three performances will offer children and their families an opportunity to travel in time on an enchanting journey where Christmas trees grow and toy soldiers come to life. \nPurchase your tickets here. \nFor groups of 10 or more\, call about group pricing 252-328-4788.\nDoor sales begin 45 minutes prior to curtain. \nThroughout the years. Dance Arts Theatre has contributed $362\,000 to Children’s Miracle Network Hospitals. This year\, the cast made up of 125 kids will continue that tradition. In the past\, the ballet has been made possible by the generous tax-deductible contributions from major corporations\, small businesses and individuals. Dance Arts Theatre again asks for your support for this special endeavor. Proceeds will help to support children’s health programs and services at Maynard Children’s Hospital and throughout the 29 counties it serves. Participating in this wonderful holiday event will allow not only you and your family an opportunity to enjoy the magic of the season\, but a time to share this magic with the many children and their families throughout our community and region. This is more than a ballet it is kids helping kids. It is about a community coming together to make a difference. \n[/vc_column_text][/vc_column][/vc_row]
URL:https://www.ecuhealthfoundation.org/event/dance-arts-theatre-presents-the-nutcracker/2025-12-13/1/
LOCATION:Wright Auditorium\, 100 Wright Circle\, Greenville\, 27858\, United States
CATEGORIES:Children's Miracle Network,Community
ATTACH;FMTTYPE=image/png:https://www.ecuhealthfoundation.org/wp-content/uploads/2025/11/12-13-25-1.png
END:VEVENT
END:VCALENDAR