BEGIN:VCALENDAR
VERSION:2.0
PRODID:-//ECU Health Foundation - ECPv6.15.20//NONSGML v1.0//EN
CALSCALE:GREGORIAN
METHOD:PUBLISH
X-WR-CALNAME:ECU Health Foundation
X-ORIGINAL-URL:https://www.ecuhealthfoundation.org
X-WR-CALDESC:Events for ECU Health Foundation
REFRESH-INTERVAL;VALUE=DURATION:PT1H
X-Robots-Tag:noindex
X-PUBLISHED-TTL:PT1H
BEGIN:VTIMEZONE
TZID:UTC
BEGIN:STANDARD
TZOFFSETFROM:+0000
TZOFFSETTO:+0000
TZNAME:UTC
DTSTART:20240101T000000
END:STANDARD
END:VTIMEZONE
BEGIN:VEVENT
DTSTART;TZID=UTC:20251216T080000
DTEND;TZID=UTC:20251216T170000
DTSTAMP:20260422T095459
CREATED:20251106T172217Z
LAST-MODIFIED:20251106T172217Z
UID:10000451-1765872000-1765904400@www.ecuhealthfoundation.org
SUMMARY:Santa's HOPE
DESCRIPTION:Create a memorable holiday experience for hospital-bound adult Cancer patients as they shop for gifts for their loved ones\, free of charge\, in the pop-up gift shop at Cancer Care in the Eddie and Jo Allison Smith Tower! Your donation provides unwrapped presents for patients to choose from as they shop\, sip on hot chocolate and enjoy snacks.  \nThis creates true joy for our patients and gives them a holiday season full of HOPE (Helping Oncology Patients Everywhere). \n  \nPlease celebrate with ECU Health Cancer Care by making a donation here. \n  \nPop-up Dates: \nDecember 16-19\, 2025 \nDecember 22\, 2025 \n 
URL:https://www.ecuhealthfoundation.org/event/santas-hope/2025-12-16/
LOCATION:ECU Health Cancer Center\, 524 Moye Blvd.\, Greenville\, NC\, 27858\, United States
CATEGORIES:Cancer Care,Community
ATTACH;FMTTYPE=image/png:https://www.ecuhealthfoundation.org/wp-content/uploads/2025/11/Santas-HOPE.png
END:VEVENT
END:VCALENDAR